BEGIN:VCALENDAR
VERSION:2.0
PRODID:-//Excel Academy of Real Estate - ECPv6.15.20//NONSGML v1.0//EN
CALSCALE:GREGORIAN
METHOD:PUBLISH
X-WR-CALNAME:Excel Academy of Real Estate
X-ORIGINAL-URL:https://realestate.excelacademy.my
X-WR-CALDESC:Events for Excel Academy of Real Estate
REFRESH-INTERVAL;VALUE=DURATION:PT1H
X-Robots-Tag:noindex
X-PUBLISHED-TTL:PT1H
BEGIN:VTIMEZONE
TZID:Asia/Kuala_Lumpur
BEGIN:STANDARD
TZOFFSETFROM:+0800
TZOFFSETTO:+0800
TZNAME:+08
DTSTART:20220101T000000
END:STANDARD
END:VTIMEZONE
BEGIN:VEVENT
DTSTART;TZID=Asia/Kuala_Lumpur:20260403T110000
DTEND;TZID=Asia/Kuala_Lumpur:20260403T120000
DTSTAMP:20260420T022040
CREATED:20260327T042036Z
LAST-MODIFIED:20260327T042036Z
UID:6261-1775214000-1775217600@realestate.excelacademy.my
SUMMARY:𝐀𝐫𝐞 𝐲𝐨𝐮 𝐚 𝐃𝐞𝐠𝐫𝐞𝐞 𝐇𝐨𝐥𝐝𝐞𝐫 𝐚𝐢𝐦𝐢𝐧𝐠 𝐭𝐨 𝐛𝐞𝐜𝐨𝐦𝐞 𝐚 𝐑𝐞𝐠𝐢𝐬𝐭𝐞𝐫𝐞𝐝 𝐄𝐬𝐭𝐚𝐭𝐞 𝐀𝐠𝐞𝐧𝐭 (𝐑𝐄𝐀) 𝐰𝐢𝐭𝐡 𝐁𝐎𝐕𝐀𝐄𝐏?
DESCRIPTION:Discover one of the fastest pathways to obtaining your REA license through the RISM Property Surveying Graduate Entry Examination! \nIf you hold a Bachelor’s Degree in any MQA-recognized discipline\, this exam is your golden opportunity.\nWith this pathway\, you only need to:\n✅ Sit for 10 papers in the exam\n✅ Complete a 1-year probation with an REA firm\nAnd here’s the best part! By taking this exam\, you’re not limited to just one license; you can secure three professional licenses:\nEstate Agent\, Valuer & Property Manager. \nJoin our Course Preview to gain first-hand insights\, explore the exam structure\, and learn how Excel Academy can guide you on this journey. \n📌 𝐂𝐨𝐮𝐫𝐬𝐞 𝐏𝐫𝐞𝐯𝐢𝐞𝐰 𝐃𝐞𝐭𝐚𝐢𝐥𝐬\nDate: 3 April 2026 (Friday)\nTime: 11:00 AM – 12:00 PM\nPlatform: Online via Zoom\nAdditionally\, if you’re planning to take the RISM exam this year\, we are now accepting final intake for 2026. \n✅ RSVP now to secure your spot: https://bit.ly/free_coursepreview \n📞 Contact our consultants for more info:\n👥 Amir: 019-2836657 | amir@excelacademy.my\n👥 Naz: 013-2471233 | naz@excelacademy.my\n👥 Admin: 017-8562228 | admin@excelacademy.my \n‘Taking Real Estate Professionals to the Next Level’\n#excelacademy #excelacademyofrealestate #coursepreview #estateagent #valuer #propertymanager #rism #rismexam #bovaep #propertysurveying #graduateentry #get3licenses See less
URL:https://realestate.excelacademy.my/event/%f0%9d%90%80%f0%9d%90%ab%f0%9d%90%9e-%f0%9d%90%b2%f0%9d%90%a8%f0%9d%90%ae-%f0%9d%90%9a-%f0%9d%90%83%f0%9d%90%9e%f0%9d%90%a0%f0%9d%90%ab%f0%9d%90%9e%f0%9d%90%9e-%f0%9d%90%87%f0%9d%90%a8%f0%9d%90%a5/
LOCATION:Zoom Meeting
CATEGORIES:RISM
ATTACH;FMTTYPE=image/jpeg:https://realestate.excelacademy.my/wp-content/uploads/2026/03/658849460_1381201580693497_7018561678698971709_n.jpg
ORGANIZER;CN="Excel Academy":MAILTO:course@excelacademy.my
END:VEVENT
BEGIN:VEVENT
DTSTART;TZID=Asia/Kuala_Lumpur:20230119T150000
DTEND;TZID=Asia/Kuala_Lumpur:20230119T160000
DTSTAMP:20260420T022040
CREATED:20230117T082203Z
LAST-MODIFIED:20230117T082203Z
UID:4470-1674140400-1674144000@realestate.excelacademy.my
SUMMARY:Fastest Way To Be A Registered Estate Agent\, Property Manager & Valuer
DESCRIPTION:  \nIf you have always wanted to be a Registered Estate Agent (REA)\, and find out the fastest pathway\, you should consider the RISM Property Surveying Graduate Entry Exams. \nBest of all\, the probation period for PEA is 1 YEAR ONLY and you can qualify to be a Registered Valuer & Property Manager as well. Yes\, you can get up to 3 licenses! No other professional qualification in Malaysia allows you to do that! \nDo not miss out on our FREE course preview to find out more. Details are as follows:\nDate: 19 January 2023 (Thursday)\nTime: 3pm – 4pm\nDelivery Platform: Online via Zoom (The Zoom link will be provided upon registration) \nRegister for the free preview at:  \nFor more information\, please call us at 019-2836657 (Amir) / 017-8562228 (Admin).
URL:https://realestate.excelacademy.my/event/fastest-way-to-be-a-registered-estate-agent-property-manager-valuer-2/
LOCATION:Zoom Meeting
CATEGORIES:RISM
ATTACH;FMTTYPE=image/png:https://realestate.excelacademy.my/wp-content/uploads/2023/01/BOVAEP-2022-30-1-1.png
ORGANIZER;CN="Excel Academy":MAILTO:course@excelacademy.my
END:VEVENT
BEGIN:VEVENT
DTSTART;TZID=Asia/Kuala_Lumpur:20230111T150000
DTEND;TZID=Asia/Kuala_Lumpur:20230113T160000
DTSTAMP:20260420T022040
CREATED:20230110T030631Z
LAST-MODIFIED:20230112T055441Z
UID:4422-1673449200-1673625600@realestate.excelacademy.my
SUMMARY:Fastest Way To Be A Registered Estate Agent\, Property Manager & Valuer
DESCRIPTION:Fastest Way To Be A Registered Estate Agent\, Property Manager & Valuer \n\nIf you have always wanted to be a Registered Estate Agent (REA)\, and find out the fastest pathway\, you should consider the RISM Property Surveying Graduate Entry Exams.\n\n\nBest of all\, the probation period for PEA is 1 YEAR ONLY and you can qualify to be a Registered Valuer & Property Manager as well. Yes\, you can get up to 3 licenses! No other professional qualification in Malaysia allows you to do that!\n\n\nDo not miss out on our FREE course preview to find out more. Details are as follows:\nDate: 11 January 2023\nTime: 3 pm – 4 pm\nDelivery Platform: Online via Zoom (The Zoom link will be provided upon registration)\n\n\nRegister for the free preview at: \n\n\n\nFor more information\, please call us at 019-2836657 (Amir) / 017-8562228 (Admin).
URL:https://realestate.excelacademy.my/event/fastest-way-to-be-a-registered-estate-agent-property-manager-valuer/
LOCATION:Zoom Meeting
CATEGORIES:RISM
ATTACH;FMTTYPE=image/png:https://realestate.excelacademy.my/wp-content/uploads/2023/01/BOVAEP-2022-30-2.png
ORGANIZER;CN="Excel Academy":MAILTO:course@excelacademy.my
END:VEVENT
END:VCALENDAR