BEGIN:VCALENDAR
VERSION:2.0
PRODID:-//Excel Academy of Real Estate - ECPv6.15.20//NONSGML v1.0//EN
CALSCALE:GREGORIAN
METHOD:PUBLISH
X-ORIGINAL-URL:https://realestate.excelacademy.my
X-WR-CALDESC:Events for Excel Academy of Real Estate
REFRESH-INTERVAL;VALUE=DURATION:PT1H
X-Robots-Tag:noindex
X-PUBLISHED-TTL:PT1H
BEGIN:VTIMEZONE
TZID:Asia/Kuala_Lumpur
BEGIN:STANDARD
TZOFFSETFROM:+0800
TZOFFSETTO:+0800
TZNAME:+08
DTSTART:20200101T000000
END:STANDARD
END:VTIMEZONE
BEGIN:VEVENT
DTSTART;TZID=Asia/Kuala_Lumpur:20210728T150000
DTEND;TZID=Asia/Kuala_Lumpur:20210728T160000
DTSTAMP:20260422T000543
CREATED:20210715T083718Z
LAST-MODIFIED:20210715T084204Z
UID:3931-1627484400-1627488000@realestate.excelacademy.my
SUMMARY:Online Course Preview: BOVAEP Estate Agent Examination
DESCRIPTION:Excel Academy will be conducting a Free BOVAEP Estate Agent Examination Online Course Preview\, catered especially for anyone who wished to become a Registered Estate Agent (REA). \nCome attend our Free Course Preview and find out more! Special Course Fee for students who register on Preview Day! \nPreview Details:\nDate: 28 𝐉𝐮𝐥𝐲 𝟐𝟎𝟐𝟏 (Wednesday)\nTime: 𝟑𝐩𝐦 𝐭𝐨 𝟒𝐩𝐦\nDelivery Platform: 𝐏𝐫𝐞𝐯𝐢𝐞𝐰 𝐰𝐢𝐥𝐥 𝐛𝐞 𝐝𝐞𝐥𝐢𝐯𝐞𝐫𝐞𝐝 𝐯𝐢𝐚 𝐙𝐨𝐨𝐦 𝐖𝐞𝐛𝐢𝐧𝐚𝐫 (Zoom Meeting link will be sent upon registration) \nTo reserve your seat\, go to https://bit.ly/EA_CP_BOVAEPP1 or call us at 019-2836657 (Amir) now!
URL:https://realestate.excelacademy.my/event/online-course-preview-bovaep-estate-agent-examination/
CATEGORIES:Online course preview
ATTACH;FMTTYPE=image/png:https://realestate.excelacademy.my/wp-content/uploads/2021/07/BOVAEP-4.png
ORGANIZER;CN="Excel Academy":MAILTO:course@excelacademy.my
END:VEVENT
BEGIN:VEVENT
DTSTART;TZID=Asia/Kuala_Lumpur:20210723T150000
DTEND;TZID=Asia/Kuala_Lumpur:20210723T160000
DTSTAMP:20260422T000543
CREATED:20210715T082257Z
LAST-MODIFIED:20210715T082612Z
UID:3926-1627052400-1627056000@realestate.excelacademy.my
SUMMARY:Online Course Preview: RISM Property Surveying Graduate Entry Examination
DESCRIPTION:Excel Academy is pleased to organize a FREE Online Preview of the RISM Property Surveying Graduate Entry Examination! Come and join us to find out the path towards becoming a Registered Estate Agent\, Valuer & Property Manager at the following date and time. \nFind out the fastest way to become a Registered Estate Agent by taking the RISM Graduate Entry Examinations. \nBest of all\, you can qualify to be a Registered Valuer & Property Manager as well. No other professional qualification in Malaysia allows you to do that! \nDo not miss attending our online course preview to find out more. \nCourse Preview details\nDate: 23 July 2021 (Friday)\nTime: 3pm – 4pm\nDelivery Platform: Preview will be delivered via Zoom Webinar (Zoom Meeting link will be sent upon registration) \nWe offer one of the most comprehensive exam preparation course in the market:-\n1) Online Classes by Experienced Lecturers\n2) Compiled Lecture Notes based on Exam Syllabus\n3) Online Forum with Comprehensive Study Materials\n4) Study Tips for Professional Exams \nTo reserve your seat\, kindly complete the form  https://bit.ly/ea_cprism2021 or call us at 019-2836657 / 017-852228 now!
URL:https://realestate.excelacademy.my/event/%f0%9d%90%85%f0%9d%90%91%f0%9d%90%84%f0%9d%90%84-%f0%9d%90%82%f0%9d%90%a8%f0%9d%90%ae%f0%9d%90%ab%f0%9d%90%ac%f0%9d%90%9e-%f0%9d%90%8f%f0%9d%90%ab%f0%9d%90%9e%f0%9d%90%af%f0%9d%90%a2%f0%9d%90%9e/
CATEGORIES:Online course preview
ATTACH;FMTTYPE=image/png:https://realestate.excelacademy.my/wp-content/uploads/2021/07/BOVAEP-3.png
ORGANIZER;CN="Excel Academy":MAILTO:course@excelacademy.my
END:VEVENT
BEGIN:VEVENT
DTSTART;TZID=Asia/Kuala_Lumpur:20210108T150000
DTEND;TZID=Asia/Kuala_Lumpur:20210108T160000
DTSTAMP:20260422T000543
CREATED:20201229T070416Z
LAST-MODIFIED:20201229T070416Z
UID:3666-1610118000-1610121600@realestate.excelacademy.my
SUMMARY:Property Surveying Graduate Entry Examinations Online Course Preview
DESCRIPTION:Excel Academy is pleased to organize a FREE Online Preview of the RISM Property Surveying Graduate Entry Examination! Come and join us to find out the path towards becoming a Registered Estate Agent\, Valuer & Property Manager at the following time\, date\, and venue!\n\nCourse Preview details:\n\nDate: 8 January 2021 (Friday)\nTime: 3.00pm to 4.00pm\nDelivery Method: Preview will be delivered via Zoom Webinar (Zoom Meeting link will be sent after registration)\nTel No: 03-74997190 [Whatsapp Amir 019-283 6657]\nTo reserve your seat\, kindly complete the form @  or call us at 03-74997190 now!
URL:https://realestate.excelacademy.my/event/property-surveying-graduate-entry-examinations-online-course-preview/
CATEGORIES:Online course preview
ATTACH;FMTTYPE=image/jpeg:https://realestate.excelacademy.my/wp-content/uploads/2020/12/Header_rism2021.jpg
ORGANIZER;CN="Excel Academy":MAILTO:course@excelacademy.my
END:VEVENT
BEGIN:VEVENT
DTSTART;TZID=Asia/Kuala_Lumpur:20210106T150000
DTEND;TZID=Asia/Kuala_Lumpur:20210106T160000
DTSTAMP:20260422T000543
CREATED:20201229T070200Z
LAST-MODIFIED:20201229T070200Z
UID:3663-1609945200-1609948800@realestate.excelacademy.my
SUMMARY:Online Course Preview | BOVAEP Estate Agent Examination Intensive Course
DESCRIPTION:Excel Academy will be conducting the BOVAEP Estate Agent Examination Online Course Preview\, catered especially for anyone who wished to further their real estate career as a Registered Estate Agent.\n\nDo not miss to attend our online course preview to find out more. Preview details as follows:\n\n Date: 6 January 2021 (Wednesday)\n Time: 3pm to 4pm\n Delivery Platform: Preview will be delivered via Zoom Webinar (Zoom Meeting link will be sent upon registration)\nTo reserve your seat\, kindly complete the form @  or call us at 03-74997190 now!
URL:https://realestate.excelacademy.my/event/online-course-preview-bovaep-estate-agent-examination-intensive-course/
CATEGORIES:Online course preview
ATTACH;FMTTYPE=image/jpeg:https://realestate.excelacademy.my/wp-content/uploads/2020/12/Header_bovaep2021.jpg
ORGANIZER;CN="Excel Academy":MAILTO:course@excelacademy.my
END:VEVENT
END:VCALENDAR